BEGIN:VCALENDAR
VERSION:2.0
PRODID:-//Plone.org//NONSGML plone.app.event//EN
X-WR-TIMEZONE:Europe/Madrid
BEGIN:VEVENT
SUMMARY:Club de debat: L'Edatisme
DTSTART;TZID=Europe/Madrid:20251008T180000
DTEND;TZID=Europe/Madrid:20251008T200000
DTSTAMP:20260424T144001Z
UID:9854b3b172e948e7a2db8ad9dbf09da6@upcarts.upc.edu
CONTACT:Associació ACTES\, https://actesblog.wordpress.com/2024/01/19/clu
 b-de-conversa-debat/
CREATED:20250930T132826Z
DESCRIPTION:Gratuït amb inscripció prèvia
LAST-MODIFIED:20251002T084727Z
LOCATION:ESEIAAT
URL:https://upcarts.upc.edu/ca/esdeveniments/actes/club-de-debat-edadisme
END:VEVENT
BEGIN:VTIMEZONE
TZID:Europe/Madrid
X-LIC-LOCATION:Europe/Madrid
BEGIN:DAYLIGHT
DTSTART:20250330T030000
TZNAME:CEST
TZOFFSETFROM:+0100
TZOFFSETTO:+0200
END:DAYLIGHT
END:VTIMEZONE
END:VCALENDAR
