BEGIN:VCALENDAR
VERSION:2.0
PRODID:-//Plone.org//NONSGML plone.app.event//EN
X-WR-TIMEZONE:Europe/Madrid
BEGIN:VEVENT
SUMMARY:Club de debat: Immigració
DTSTART;TZID=Europe/Madrid:20250407T100000
DTEND;TZID=Europe/Madrid:20250407T110000
DTSTAMP:20260420T023653Z
UID:c8b49e2fecb54d4d863560fcfb412124@upcarts.upc.edu
CONTACT:Associació ACTES\, https://actesblog.wordpress.com/2024/01/19/clu
 b-de-conversa-debat/
CREATED:20250327T172817Z
DESCRIPTION:Gratuït amb inscripció prèvia
LAST-MODIFIED:20250327T172829Z
LOCATION:Biblioteca Campus de Terrassa
URL:https://upcarts.upc.edu/ca/esdeveniments/actes/club-de-debat-immigraci
 o
END:VEVENT
BEGIN:VTIMEZONE
TZID:Europe/Madrid
X-LIC-LOCATION:Europe/Madrid
BEGIN:DAYLIGHT
DTSTART:20250330T030000
TZNAME:CEST
TZOFFSETFROM:+0100
TZOFFSETTO:+0200
END:DAYLIGHT
END:VTIMEZONE
END:VCALENDAR
