BEGIN:VCALENDAR
VERSION:2.0
PRODID:-//Plone.org//NONSGML plone.app.event//EN
X-WR-TIMEZONE:Europe/Madrid
BEGIN:VEVENT
SUMMARY:1r Torneig UPC Blitz
DTSTART;VALUE=DATE:20251119
DTEND;VALUE=DATE:20251120
DTSTAMP:20260420T231927Z
UID:431edbb1340c421e8d25a57bb8ba5a6e@upcarts.upc.edu
CATEGORIES:VIU LA UNI,ETSECCPB
CREATED:20251013T131041Z
DESCRIPTION:Inscripció prèvia
LAST-MODIFIED:20251119T142313Z
LOCATION:Biblioteca Rector Gabriel Ferraté
URL:https://upcarts.upc.edu/ca/esdeveniments/campus/1r-torneig-upc-blitz
END:VEVENT
END:VCALENDAR
