BEGIN:VCALENDAR
VERSION:2.0
PRODID:-//Plone.org//NONSGML plone.app.event//EN
X-WR-TIMEZONE:Europe/Madrid
BEGIN:VEVENT
SUMMARY:Club de lectura: Pedra de tartera de Maria Barbal
DTSTART;TZID=Europe/Madrid:20260520T183000
DTEND;TZID=Europe/Madrid:20260520T193000
DTSTAMP:20260424T162053Z
UID:d3b638d8021848cbb34f6cd3d02792f0@upcarts.upc.edu
RRULE:FREQ=DAILY;UNTIL=20260521T000000
EXDATE;TZID=Europe/Madrid:20260521T000000
CATEGORIES:CICLES I CLUBS,ESEIAAT
CONTACT:https://actesblog.wordpress.com/2023/09/05/club-de-lectura/
CREATED:20260108T130159Z
DESCRIPTION:Inscripcions gratuïtes
LAST-MODIFIED:20260108T130249Z
LOCATION:Biblioteca Campus Terrassa
URL:https://upcarts.upc.edu/ca/esdeveniments/campus/club-de-lectura-pedra-
 de-tartera-de-maria-barbal
END:VEVENT
BEGIN:VTIMEZONE
TZID:Europe/Madrid
X-LIC-LOCATION:Europe/Madrid
BEGIN:DAYLIGHT
DTSTART:20260329T030000
TZNAME:CEST
TZOFFSETFROM:+0100
TZOFFSETTO:+0200
END:DAYLIGHT
END:VTIMEZONE
END:VCALENDAR
