BEGIN:VCALENDAR
VERSION:2.0
PRODID:-//Plone.org//NONSGML plone.app.event//EN
X-WR-TIMEZONE:Europe/Madrid
BEGIN:VEVENT
SUMMARY:L’erosió de les platges
DTSTART;TZID=Europe/Madrid:20251014T190000
DTSTAMP:20260420T231834Z
UID:6b561cc4123d410da7f8934fe8017c22@upcarts.upc.edu
CONTACT:https://actesblog.wordpress.com/2018/01/07/conferencies-2/
CREATED:20250707T102149Z
DESCRIPTION:a càrrec de Josep Pintó
LAST-MODIFIED:20250707T102221Z
LOCATION:Sala de d'Actes de l'ESEIAAT-UPC
URL:https://upcarts.upc.edu/ca/esdeveniments/campus/lerosio-de-les-platges
END:VEVENT
BEGIN:VTIMEZONE
TZID:Europe/Madrid
X-LIC-LOCATION:Europe/Madrid
BEGIN:DAYLIGHT
DTSTART:20250330T030000
TZNAME:CEST
TZOFFSETFROM:+0100
TZOFFSETTO:+0200
END:DAYLIGHT
END:VTIMEZONE
END:VCALENDAR
