BEGIN:VCALENDAR
VERSION:2.0
PRODID:-//Plone.org//NONSGML plone.app.event//EN
X-WR-TIMEZONE:Europe/Madrid
BEGIN:VEVENT
SUMMARY:Cicle de cinema i arquitectura. Todo sobre mi madre
DTSTART;TZID=Europe/Madrid:20230421T180000
DTEND;TZID=Europe/Madrid:20230421T190000
DTSTAMP:20260419T212203Z
UID:51d724547f5a421dadb05c39c6e2ce36@upcarts.upc.edu
CONTACT:UPCArts
CREATED:20230306T143728Z
DESCRIPTION:GRATUÏT. 21 d'abril\, 18 h. a l'ETSAB. Inscriu-te a UPCArts.
LAST-MODIFIED:20250217T161642Z
LOCATION:ETSAB
URL:https://upcarts.upc.edu/ca/esdeveniments/cicles/cinema-i-arquitectura
END:VEVENT
BEGIN:VTIMEZONE
TZID:Europe/Madrid
X-LIC-LOCATION:Europe/Madrid
BEGIN:DAYLIGHT
DTSTART:20230326T030000
TZNAME:CEST
TZOFFSETFROM:+0100
TZOFFSETTO:+0200
END:DAYLIGHT
END:VTIMEZONE
END:VCALENDAR
