BEGIN:VCALENDAR
VERSION:2.0
PRODID:-//Plone.org//NONSGML plone.app.event//EN
X-WR-TIMEZONE:Europe/Madrid
BEGIN:VEVENT
SUMMARY:Concurs d’Intel·ligència Artificial
DTSTART;VALUE=DATE:20250615
DTEND;VALUE=DATE:20250616
DTSTAMP:20260419T155502Z
UID:6a83404e1fed409384c7972fc1c2359f@upcarts.upc.edu
CATEGORIES:VIU LA UNI
CONTACT:https://iachallenge.upc.edu/
CREATED:20250219T084547Z
DESCRIPTION:Per connectar el talent universitari amb el món industrial
LAST-MODIFIED:20250611T102307Z
URL:https://upcarts.upc.edu/ca/esdeveniments/convocatories/concurs-dintel-
 ligencia-artificial
END:VEVENT
END:VCALENDAR
