BEGIN:VCALENDAR
VERSION:2.0
PRODID:-//Plone.org//NONSGML plone.app.event//EN
X-WR-TIMEZONE:Europe/Madrid
BEGIN:VEVENT
SUMMARY:Ecologies Corrents
DTSTART;TZID=Europe/Madrid:20250617T190000
DTSTAMP:20260420T181945Z
UID:425a8608247648d8a92ee6027f288d85@upcarts.upc.edu
CREATED:20250602T121433Z
DESCRIPTION:Setmanes d’Arquitectura
LAST-MODIFIED:20250603T112214Z
LOCATION:Campus UPC Besòs\, EEBE – Sala d’Actes
URL:https://upcarts.upc.edu/ca/esdeveniments/cultural/ecologies-corrents
END:VEVENT
BEGIN:VTIMEZONE
TZID:Europe/Madrid
X-LIC-LOCATION:Europe/Madrid
BEGIN:DAYLIGHT
DTSTART:20250330T030000
TZNAME:CEST
TZOFFSETFROM:+0100
TZOFFSETTO:+0200
END:DAYLIGHT
END:VTIMEZONE
END:VCALENDAR
