BEGIN:VCALENDAR
VERSION:2.0
PRODID:-//Plone.org//NONSGML plone.app.event//EN
X-WR-TIMEZONE:Europe/Madrid
BEGIN:VEVENT
SUMMARY:Exposició «El so que no percebem»
DTSTART;VALUE=DATE:20250512
DTEND;VALUE=DATE:20250518
DTSTAMP:20260424T111821Z
UID:a6bf5af65b0b467f8ec0f80b06752c82@upcarts.upc.edu
CREATED:20250429T115830Z
DESCRIPTION:Escola Tècnica Superior d'Arquitectura del Vallès
LAST-MODIFIED:20250506T165728Z
LOCATION:Vestíbul de l'Escola Tècnica Superior d'Arquitectura del Vallè
 s\, ETSAV
URL:https://upcarts.upc.edu/ca/esdeveniments/cultural/exposicio-el-so-que-
 no-percebem
END:VEVENT
END:VCALENDAR
