BEGIN:VCALENDAR
VERSION:2.0
PRODID:-//Plone.org//NONSGML plone.app.event//EN
X-WR-TIMEZONE:Europe/Madrid
BEGIN:VEVENT
SUMMARY:Matter Matters
DTSTART;TZID=Europe/Madrid:20251120T163000
DTSTAMP:20260420T163550Z
UID:2d758e910075450fba50b390beb0c80a@upcarts.upc.edu
CATEGORIES:AGENDA UPCArts
CONTACT:https://www.dissenyhub.barcelona/ca/exposicio/matter-matters-disse
 nyar-amb-el-mon
CREATED:20251022T121355Z
DESCRIPTION:Inscripció prèvia gratuïta
LAST-MODIFIED:20251118T124313Z
LOCATION:DHUB\, Museu del Disseny de Barcelona
URL:https://upcarts.upc.edu/ca/esdeveniments/cultural/matter-matters
END:VEVENT
BEGIN:VTIMEZONE
TZID:Europe/Madrid
X-LIC-LOCATION:Europe/Madrid
BEGIN:STANDARD
DTSTART:20251026T020000
TZNAME:CET
TZOFFSETFROM:+0200
TZOFFSETTO:+0100
END:STANDARD
END:VTIMEZONE
END:VCALENDAR
