BEGIN:VCALENDAR
VERSION:2.0
PRODID:-//Plone.org//NONSGML plone.app.event//EN
X-WR-TIMEZONE:Europe/Madrid
BEGIN:VEVENT
SUMMARY:Taller: Remeis primaverals
DTSTART;TZID=Europe/Madrid:20260421T183000
DTEND;TZID=Europe/Madrid:20260421T200000
DTSTAMP:20260419T155501Z
UID:d80e5062b2634e73b1c796b4127d4f18@upcarts.upc.edu
RRULE:FREQ=DAILY;UNTIL=20260422T000000
EXDATE;TZID=Europe/Madrid:20260422T000000
CATEGORIES:ESEIAAT,VIU LA UNI
CONTACT:https://actesblog.wordpress.com/2018/01/07/tallers-2/
CREATED:20260213T090419Z
DESCRIPTION:Inscripció prèvia (despatx AcTes)
LAST-MODIFIED:20260213T090432Z
LOCATION:Lloc a determinar segons nombre d’assistents (Terrassa)
URL:https://upcarts.upc.edu/ca/esdeveniments/cultural/taller-remeis-primav
 erals
END:VEVENT
BEGIN:VTIMEZONE
TZID:Europe/Madrid
X-LIC-LOCATION:Europe/Madrid
BEGIN:DAYLIGHT
DTSTART:20260329T030000
TZNAME:CEST
TZOFFSETFROM:+0100
TZOFFSETTO:+0200
END:DAYLIGHT
END:VTIMEZONE
END:VCALENDAR
