BEGIN:VCALENDAR
VERSION:2.0
PRODID:-//Plone.org//NONSGML plone.app.event//EN
X-WR-TIMEZONE:Europe/Madrid
BEGIN:VEVENT
SUMMARY:Jo Jet i Maria Ribot
DTSTART;TZID=Europe/Madrid:20230324T200000
DTEND;TZID=Europe/Madrid:20230324T211500
DTSTAMP:20260420T085041Z
UID:dec85428f4dd46dfae181d10704c2e8c@upcarts.upc.edu
CREATED:20230221T140942Z
DESCRIPTION:CONCERT. 6€ 24 de març\, 20h\, Teatre Kursaal de Manresa. I
 nscriu-te a UPCArts.
LAST-MODIFIED:20250217T163752Z
LOCATION:Teatre Kursaal\, Manresa
URL:https://upcarts.upc.edu/ca/esdeveniments/musica/kursaal
END:VEVENT
BEGIN:VTIMEZONE
TZID:Europe/Madrid
X-LIC-LOCATION:Europe/Madrid
BEGIN:STANDARD
DTSTART:20221030T020000
TZNAME:CET
TZOFFSETFROM:+0200
TZOFFSETTO:+0100
END:STANDARD
END:VTIMEZONE
END:VCALENDAR
