BEGIN:VCALENDAR
VERSION:2.0
PRODID:-//Plone.org//NONSGML plone.app.event//EN
X-WR-TIMEZONE:Europe/Madrid
BEGIN:VEVENT
SUMMARY:Balls literaris
DTSTART;TZID=Europe/Madrid:20230416T130000
DTSTAMP:20260420T025240Z
UID:e7e0cbc7bb9a4e50803933f207ff4e04@upcarts.upc.edu
CREATED:20230328T164515Z
DESCRIPTION:TEATRE 10€. Diumenge 16 d’abril a les 13h. al TNC. Inscrip
 cions a UPCArts. Entra i compra l'entrada!!
LAST-MODIFIED:20250217T162218Z
LOCATION:Plaça de les Arts\, 1. Barcelona
URL:https://upcarts.upc.edu/ca/esdeveniments/teatre/balls-literaris
END:VEVENT
BEGIN:VTIMEZONE
TZID:Europe/Madrid
X-LIC-LOCATION:Europe/Madrid
BEGIN:DAYLIGHT
DTSTART:20230326T030000
TZNAME:CEST
TZOFFSETFROM:+0100
TZOFFSETTO:+0200
END:DAYLIGHT
END:VTIMEZONE
END:VCALENDAR
