BEGIN:VCALENDAR
VERSION:2.0
PRODID:-//Plone.org//NONSGML plone.app.event//EN
X-WR-TIMEZONE:Europe/Madrid
BEGIN:VEVENT
SUMMARY:Zina Cinker 'Matter Expressionism' al Sónar+D 2023
DTSTART;TZID=Europe/Madrid:20230616T153000
DTEND;TZID=Europe/Madrid:20230616T163000
DTSTAMP:20260419T212237Z
UID:448a963b4a214e99b8e8316d0ef9f02e@upcarts.upc.edu
CONTACT:Sónar\, https://sonar.es/ca/activitat/masterclass-matter-expressi
 onism-presented-by-puzzle-x
CREATED:20230615T072228Z
DESCRIPTION:Divendres 16 de juny\, 15.30 h\, SonarÀgora\, Sònar +D
LAST-MODIFIED:20230615T094244Z
LOCATION:SonarÀgora
URL:https://upcarts.upc.edu/ca/esdeveniments/tecnohumanisme/sonar/matter-e
 xpressionism-presented-by-puzzle-x
END:VEVENT
BEGIN:VTIMEZONE
TZID:Europe/Madrid
X-LIC-LOCATION:Europe/Madrid
BEGIN:DAYLIGHT
DTSTART:20230326T030000
TZNAME:CEST
TZOFFSETFROM:+0100
TZOFFSETTO:+0200
END:DAYLIGHT
END:VTIMEZONE
END:VCALENDAR
