BEGIN:VCALENDAR
VERSION:2.0
PRODID:-//Plone.org//NONSGML plone.app.event//EN
X-WR-TIMEZONE:Europe/Madrid
BEGIN:VEVENT
SUMMARY:Xerrada Albert Espinosa: Si creus en els somnis\, es faran realita
 t
DTSTART;TZID=Europe/Madrid:20230427T170000
DTSTAMP:20260419T224217Z
UID:2d8522070a4d4d638e1a0de4e2b5c840@upcarts.upc.edu
CATEGORIES:CAMPUS,ETSEIB
CONTACT:UPC Arts\, https://etseib.upc.edu/ca/esdeveniments/acte-de-sant-jo
 rdi-2023
CREATED:20230404T090712Z
DESCRIPTION:ETSEIB. Dijous 27 d'abril a les 17h a la sala d'actes de l'ETS
 EIB.
LAST-MODIFIED:20250218T132943Z
LOCATION:Sala d'actes de l'ETSEIB
URL:https://upcarts.upc.edu/ca/esdeveniments/xerrades/albert-espinosa
END:VEVENT
BEGIN:VTIMEZONE
TZID:Europe/Madrid
X-LIC-LOCATION:Europe/Madrid
BEGIN:DAYLIGHT
DTSTART:20230326T030000
TZNAME:CEST
TZOFFSETFROM:+0100
TZOFFSETTO:+0200
END:DAYLIGHT
END:VTIMEZONE
END:VCALENDAR
